BEGIN:VCALENDAR
VERSION:2.0
PRODID:-// - ECPv6.15.17.1//NONSGML v1.0//EN
CALSCALE:GREGORIAN
METHOD:PUBLISH
X-ORIGINAL-URL:https://www.amandaforbrookline.com
X-WR-CALDESC:Events for 
REFRESH-INTERVAL;VALUE=DURATION:PT1H
X-Robots-Tag:noindex
X-PUBLISHED-TTL:PT1H
BEGIN:VTIMEZONE
TZID:UTC
BEGIN:STANDARD
TZOFFSETFROM:+0000
TZOFFSETTO:+0000
TZNAME:UTC
DTSTART:20250101T000000
END:STANDARD
END:VTIMEZONE
BEGIN:VEVENT
DTSTART;TZID=UTC:20260412T150000
DTEND;TZID=UTC:20260412T163000
DTSTAMP:20260419T181110
CREATED:20260408T232750Z
LAST-MODIFIED:20260408T232750Z
UID:200-1776006000-1776011400@www.amandaforbrookline.com
SUMMARY:House Party
DESCRIPTION:RSVP to connect with Amanda\, meet other supporters\, and learn more about her campaign for Brookline Select Board! More information will be sent to your email after you fill out the form. \nRSVP Here
URL:https://www.amandaforbrookline.com/event/house-party/
END:VEVENT
END:VCALENDAR